Package: openPrimeR Version: 1.30.1 Command: /Library/Frameworks/R.framework/Resources/bin/R CMD INSTALL openPrimeR StartedAt: 2025-10-13 17:56:04 -0400 (Mon, 13 Oct 2025) EndedAt: 2025-10-13 17:56:37 -0400 (Mon, 13 Oct 2025) EllapsedTime: 33.4 seconds RetCode: 0 Status: OK