Package: openPrimeR Version: 1.30.1 Command: /Library/Frameworks/R.framework/Resources/bin/R CMD build --keep-empty-dirs --no-resave-data openPrimeR StartedAt: 2025-10-14 05:59:18 -0400 (Tue, 14 Oct 2025) EndedAt: 2025-10-14 06:01:23 -0400 (Tue, 14 Oct 2025) EllapsedTime: 124.4 seconds RetCode: 0 Status: OK PackageFile: openPrimeR_1.30.1.tar.gz PackageFileSize: 2.205 MiB