Package: openCyto Version: 2.22.0 Command: /home/biocbuild/bbs-3.22-bioc/R/bin/R CMD check --install=check:openCyto.install-out.txt --library=/home/biocbuild/bbs-3.22-bioc/R/site-library --timings openCyto_2.22.0.tar.gz StartedAt: 2025-11-15 02:36:30 -0500 (Sat, 15 Nov 2025) EndedAt: 2025-11-15 02:39:51 -0500 (Sat, 15 Nov 2025) EllapsedTime: 201.2 seconds RetCode: 0 Status: WARNINGS CheckDir: openCyto.Rcheck Warnings: 2