Package: openCyto Version: 2.22.0 Command: /Library/Frameworks/R.framework/Resources/bin/R CMD INSTALL openCyto StartedAt: 2025-11-03 15:29:37 -0500 (Mon, 03 Nov 2025) EndedAt: 2025-11-03 15:30:16 -0500 (Mon, 03 Nov 2025) EllapsedTime: 39.0 seconds RetCode: 0 Status: OK