Package: openCyto Version: 2.22.0 Command: /Library/Frameworks/R.framework/Resources/bin/R CMD build --keep-empty-dirs --no-resave-data openCyto StartedAt: 2025-11-03 18:05:56 -0500 (Mon, 03 Nov 2025) EndedAt: 2025-11-03 18:07:27 -0500 (Mon, 03 Nov 2025) EllapsedTime: 91.4 seconds RetCode: 0 Status: OK PackageFile: openCyto_2.22.0.tar.gz PackageFileSize: 2.463 MiB