Package: openCyto Version: 2.22.0 Command: rm -rf openCyto.buildbin-libdir && mkdir openCyto.buildbin-libdir && /Users/biocbuild/BBS/utils/build-universal.sh openCyto_2.22.0.tar.gz /Library/Frameworks/R.framework/Resources/bin/R openCyto.buildbin-libdir StartedAt: 2025-11-04 01:54:24 -0500 (Tue, 04 Nov 2025) EndedAt: 2025-11-04 01:55:08 -0500 (Tue, 04 Nov 2025) EllapsedTime: 43.5 seconds RetCode: 0 Status: OK PackageFile: openCyto_2.22.0.tgz PackageFileSize: 2.728 MiB