Package: openCyto Version: 2.20.1 Command: /home/biocbuild/R/R/bin/R CMD INSTALL openCyto StartedAt: 2025-10-13 20:32:02 -0000 (Mon, 13 Oct 2025) EndedAt: 2025-10-13 20:32:49 -0000 (Mon, 13 Oct 2025) EllapsedTime: 46.2 seconds RetCode: 0 Status: OK