Package: openCyto Version: 2.20.1 Command: /home/biocbuild/R/R/bin/R CMD build --keep-empty-dirs --no-resave-data openCyto StartedAt: 2025-10-14 03:13:24 -0000 (Tue, 14 Oct 2025) EndedAt: 2025-10-14 03:15:57 -0000 (Tue, 14 Oct 2025) EllapsedTime: 153.3 seconds RetCode: 0 Status: OK PackageFile: openCyto_2.20.1.tar.gz PackageFileSize: 1.692 MiB