Package: openCyto Version: 2.19.2 Command: rm -rf openCyto.buildbin-libdir && mkdir openCyto.buildbin-libdir && /Users/biocbuild/BBS/utils/build-universal.sh openCyto_2.19.2.tar.gz /Library/Frameworks/R.framework/Resources/bin/R openCyto.buildbin-libdir StartedAt: 2025-04-09 22:51:55 -0400 (Wed, 09 Apr 2025) EndedAt: 2025-04-09 22:52:07 -0400 (Wed, 09 Apr 2025) EllapsedTime: 12.3 seconds RetCode: 0 Status: OK PackageFile: openCyto_2.19.2.tgz PackageFileSize: 2.729 MiB