Package: ontoProc Version: 2.4.0 Command: /home/biocbuild/bbs-3.22-bioc/R/bin/R CMD INSTALL ontoProc StartedAt: 2025-11-11 15:39:26 -0500 (Tue, 11 Nov 2025) EndedAt: 2025-11-11 15:39:58 -0500 (Tue, 11 Nov 2025) EllapsedTime: 31.9 seconds RetCode: 0 Status: OK