Package: ontoProc Version: 2.4.0 Command: /home/biocbuild/bbs-3.22-bioc/R/bin/R CMD check --install=check:ontoProc.install-out.txt --library=/home/biocbuild/bbs-3.22-bioc/R/site-library --timings ontoProc_2.4.0.tar.gz StartedAt: 2025-11-12 02:20:51 -0500 (Wed, 12 Nov 2025) EndedAt: 2025-11-12 03:00:51 -0500 (Wed, 12 Nov 2025) EllapsedTime: 2400.5 seconds RetCode: None Status: TIMEOUT CheckDir: ontoProc.Rcheck Warnings: NA