Package: ontoProc Version: 2.2.4 Command: /home/biocbuild/bbs-3.21-bioc/R/bin/R CMD INSTALL ontoProc StartedAt: 2025-10-15 15:34:18 -0400 (Wed, 15 Oct 2025) EndedAt: 2025-10-15 15:34:50 -0400 (Wed, 15 Oct 2025) EllapsedTime: 31.5 seconds RetCode: 0 Status: OK