Package: ontoProc Version: 2.2.4 Command: /home/biocbuild/bbs-3.21-bioc/R/bin/R CMD build --keep-empty-dirs --no-resave-data ontoProc StartedAt: 2025-10-15 18:57:28 -0400 (Wed, 15 Oct 2025) EndedAt: 2025-10-15 19:02:11 -0400 (Wed, 15 Oct 2025) EllapsedTime: 282.3 seconds RetCode: 1 Status: ERROR PackageFile: None PackageFileSize: NA