Package: ontoProc Version: 2.2.4 Command: /home/biocbuild/R/R/bin/R CMD INSTALL ontoProc StartedAt: 2025-10-06 20:49:50 -0000 (Mon, 06 Oct 2025) EndedAt: 2025-10-06 20:50:37 -0000 (Mon, 06 Oct 2025) EllapsedTime: 46.3 seconds RetCode: 0 Status: OK