Package: ontoProc Version: 2.2.4 Command: /home/biocbuild/R/R/bin/R CMD build --keep-empty-dirs --no-resave-data ontoProc StartedAt: 2025-10-07 03:17:49 -0000 (Tue, 07 Oct 2025) EndedAt: 2025-10-07 03:20:56 -0000 (Tue, 07 Oct 2025) EllapsedTime: 187.3 seconds RetCode: 1 Status: ERROR PackageFile: None PackageFileSize: NA