Package: ontoProc Version: 2.2.0 Command: rm -rf ontoProc.buildbin-libdir && mkdir ontoProc.buildbin-libdir && /Users/biocbuild/BBS/utils/build-universal.sh ontoProc_2.2.0.tar.gz /Library/Frameworks/R.framework/Resources/bin/R ontoProc.buildbin-libdir StartedAt: 2025-04-21 22:45:24 -0400 (Mon, 21 Apr 2025) EndedAt: 2025-04-21 22:45:39 -0400 (Mon, 21 Apr 2025) EllapsedTime: 15.3 seconds RetCode: 0 Status: OK PackageFile: ontoProc_2.2.0.tgz PackageFileSize: 10.31 MiB