Package: ontoProc Version: 2.2.4 Command: /Library/Frameworks/R.framework/Resources/bin/R CMD INSTALL ontoProc StartedAt: 2025-10-13 17:06:23 -0400 (Mon, 13 Oct 2025) EndedAt: 2025-10-13 17:07:02 -0400 (Mon, 13 Oct 2025) EllapsedTime: 39.0 seconds RetCode: 0 Status: OK