Package: ontoProc Version: 2.2.4 Command: /Library/Frameworks/R.framework/Resources/bin/R CMD build --keep-empty-dirs --no-resave-data ontoProc StartedAt: 2025-10-14 05:58:26 -0400 (Tue, 14 Oct 2025) EndedAt: 2025-10-14 06:02:46 -0400 (Tue, 14 Oct 2025) EllapsedTime: 260.3 seconds RetCode: 1 Status: ERROR PackageFile: None PackageFileSize: NA