Package: ontoProc Version: 2.2.3 Command: rm -rf ontoProc.buildbin-libdir && mkdir ontoProc.buildbin-libdir && /Users/biocbuild/BBS/utils/build-universal.sh ontoProc_2.2.3.tar.gz /Library/Frameworks/R.framework/Resources/bin/R ontoProc.buildbin-libdir StartedAt: 2025-08-09 17:39:48 -0400 (Sat, 09 Aug 2025) EndedAt: 2025-08-09 17:40:30 -0400 (Sat, 09 Aug 2025) EllapsedTime: 42.0 seconds RetCode: 0 Status: OK PackageFile: ontoProc_2.2.3.tgz PackageFileSize: 10.31 MiB