Package: onlineFDR Version: 2.18.0 Command: /home/biocbuild/bbs-3.22-bioc/R/bin/R CMD INSTALL onlineFDR StartedAt: 2025-11-11 15:06:45 -0500 (Tue, 11 Nov 2025) EndedAt: 2025-11-11 15:07:54 -0500 (Tue, 11 Nov 2025) EllapsedTime: 69.1 seconds RetCode: 0 Status: OK