Package: onlineFDR Version: 2.18.0 Command: /Library/Frameworks/R.framework/Resources/bin/R CMD INSTALL onlineFDR StartedAt: 2025-10-31 15:14:22 -0400 (Fri, 31 Oct 2025) EndedAt: 2025-10-31 15:15:00 -0400 (Fri, 31 Oct 2025) EllapsedTime: 38.1 seconds RetCode: 0 Status: OK