Package: onlineFDR Version: 2.18.0 Command: /Library/Frameworks/R.framework/Resources/bin/R CMD build --keep-empty-dirs --no-resave-data onlineFDR StartedAt: 2025-10-31 18:09:03 -0400 (Fri, 31 Oct 2025) EndedAt: 2025-10-31 18:09:46 -0400 (Fri, 31 Oct 2025) EllapsedTime: 42.3 seconds RetCode: 0 Status: OK PackageFile: onlineFDR_2.18.0.tar.gz PackageFileSize: 1.921 MiB