Package: onlineFDR Version: 2.18.0 Command: rm -rf onlineFDR.buildbin-libdir && mkdir onlineFDR.buildbin-libdir && /Users/biocbuild/BBS/utils/build-universal.sh onlineFDR_2.18.0.tar.gz /Library/Frameworks/R.framework/Resources/bin/R onlineFDR.buildbin-libdir StartedAt: 2025-11-01 01:48:05 -0400 (Sat, 01 Nov 2025) EndedAt: 2025-11-01 01:48:57 -0400 (Sat, 01 Nov 2025) EllapsedTime: 51.7 seconds RetCode: 0 Status: OK PackageFile: onlineFDR_2.18.0.tgz PackageFileSize: 1.255 MiB