Package: onlineFDR Version: 2.16.0 Command: /home/biocbuild/R/R/bin/R CMD build --keep-empty-dirs --no-resave-data onlineFDR StartedAt: 2025-10-10 03:11:26 -0000 (Fri, 10 Oct 2025) EndedAt: 2025-10-10 03:13:17 -0000 (Fri, 10 Oct 2025) EllapsedTime: 111.2 seconds RetCode: 0 Status: OK PackageFile: onlineFDR_2.16.0.tar.gz PackageFileSize: 1.92 MiB