Package: oncoscanR Version: 1.12.0 Command: /Library/Frameworks/R.framework/Resources/bin/R CMD build --keep-empty-dirs --no-resave-data oncoscanR StartedAt: 2025-11-03 18:05:18 -0500 (Mon, 03 Nov 2025) EndedAt: 2025-11-03 18:08:07 -0500 (Mon, 03 Nov 2025) EllapsedTime: 168.8 seconds RetCode: 0 Status: OK PackageFile: oncoscanR_1.12.0.tar.gz PackageFileSize: 990.1 KiB