Package: oncoscanR Version: 1.10.0 Command: /home/biocbuild/R/R/bin/R CMD build --keep-empty-dirs --no-resave-data oncoscanR StartedAt: 2025-10-14 03:12:42 -0000 (Tue, 14 Oct 2025) EndedAt: 2025-10-14 03:17:26 -0000 (Tue, 14 Oct 2025) EllapsedTime: 284.1 seconds RetCode: 0 Status: OK PackageFile: oncoscanR_1.10.0.tar.gz PackageFileSize: 1015 KiB