Package: oncomix Version: 1.32.0 Command: /home/biocbuild/bbs-3.22-bioc/R/bin/R CMD build --keep-empty-dirs --no-resave-data --md5 oncomix StartedAt: 2025-11-11 19:12:24 -0500 (Tue, 11 Nov 2025) EndedAt: 2025-11-11 19:13:08 -0500 (Tue, 11 Nov 2025) EllapsedTime: 44.1 seconds RetCode: 0 Status: OK PackageFile: oncomix_1.32.0.tar.gz PackageFileSize: 2.397 MiB