Package: oncomix Version: 1.32.0 Command: /Library/Frameworks/R.framework/Resources/bin/R CMD INSTALL oncomix StartedAt: 2025-10-31 15:38:01 -0400 (Fri, 31 Oct 2025) EndedAt: 2025-10-31 15:38:39 -0400 (Fri, 31 Oct 2025) EllapsedTime: 38.0 seconds RetCode: 0 Status: OK