Package: oncomix Version: 1.32.0 Command: /Library/Frameworks/R.framework/Resources/bin/R CMD build --keep-empty-dirs --no-resave-data oncomix StartedAt: 2025-10-31 18:08:42 -0400 (Fri, 31 Oct 2025) EndedAt: 2025-10-31 18:09:29 -0400 (Fri, 31 Oct 2025) EllapsedTime: 46.8 seconds RetCode: 0 Status: OK PackageFile: oncomix_1.32.0.tar.gz PackageFileSize: 2.43 MiB