Package: oncomix Version: 1.32.0 Command: rm -rf oncomix.buildbin-libdir && mkdir oncomix.buildbin-libdir && /Users/biocbuild/BBS/utils/build-universal.sh oncomix_1.32.0.tar.gz /Library/Frameworks/R.framework/Resources/bin/R oncomix.buildbin-libdir StartedAt: 2025-11-01 01:48:05 -0400 (Sat, 01 Nov 2025) EndedAt: 2025-11-01 01:48:41 -0400 (Sat, 01 Nov 2025) EllapsedTime: 35.8 seconds RetCode: 0 Status: OK PackageFile: oncomix_1.32.0.tgz PackageFileSize: 2.461 MiB