Package: oncomix Version: 1.30.0 Command: /home/biocbuild/R/R/bin/R CMD INSTALL oncomix StartedAt: 2025-10-06 20:47:12 -0000 (Mon, 06 Oct 2025) EndedAt: 2025-10-06 20:47:44 -0000 (Mon, 06 Oct 2025) EllapsedTime: 31.1 seconds RetCode: 0 Status: OK