Package: oncomix Version: 1.30.0 Command: /home/biocbuild/R/R/bin/R CMD build --keep-empty-dirs --no-resave-data oncomix StartedAt: 2025-10-07 03:17:10 -0000 (Tue, 07 Oct 2025) EndedAt: 2025-10-07 03:18:24 -0000 (Tue, 07 Oct 2025) EllapsedTime: 74.1 seconds RetCode: 0 Status: OK PackageFile: oncomix_1.30.0.tar.gz PackageFileSize: 2.43 MiB