Package: ompBAM Version: 1.14.0 Command: /home/biocbuild/R/R/bin/R CMD INSTALL ompBAM StartedAt: 2025-11-13 21:02:54 -0000 (Thu, 13 Nov 2025) EndedAt: 2025-11-13 21:03:05 -0000 (Thu, 13 Nov 2025) EllapsedTime: 11.4 seconds RetCode: 0 Status: OK