Package: ompBAM Version: 1.14.0 Command: /home/biocbuild/bbs-3.22-bioc/R/bin/R CMD INSTALL ompBAM StartedAt: 2025-11-11 15:06:30 -0500 (Tue, 11 Nov 2025) EndedAt: 2025-11-11 15:06:34 -0500 (Tue, 11 Nov 2025) EllapsedTime: 4.3 seconds RetCode: 0 Status: OK