Package: ompBAM Version: 1.14.0 Command: /home/biocbuild/bbs-3.22-bioc/R/bin/R CMD check --install=check:ompBAM.install-out.txt --library=/home/biocbuild/bbs-3.22-bioc/R/site-library --timings ompBAM_1.14.0.tar.gz StartedAt: 2025-11-12 02:19:45 -0500 (Wed, 12 Nov 2025) EndedAt: 2025-11-12 02:20:29 -0500 (Wed, 12 Nov 2025) EllapsedTime: 44.0 seconds RetCode: 0 Status: OK CheckDir: ompBAM.Rcheck Warnings: 0