Package: omicsViewer Version: 1.14.0 Command: /home/biocbuild/R/R/bin/R CMD INSTALL omicsViewer StartedAt: 2025-11-10 21:32:37 -0000 (Mon, 10 Nov 2025) EndedAt: 2025-11-10 21:33:23 -0000 (Mon, 10 Nov 2025) EllapsedTime: 46.3 seconds RetCode: 0 Status: OK