Package: omicsViewer Version: 1.14.0 Command: /home/biocbuild/bbs-3.22-bioc/R/bin/R CMD build --keep-empty-dirs --no-resave-data --md5 omicsViewer StartedAt: 2025-11-11 19:11:45 -0500 (Tue, 11 Nov 2025) EndedAt: 2025-11-11 19:12:37 -0500 (Tue, 11 Nov 2025) EllapsedTime: 52.0 seconds RetCode: 0 Status: OK PackageFile: omicsViewer_1.14.0.tar.gz PackageFileSize: 4.334 MiB