Package: omicsPrint Version: 1.30.0 Command: /home/biocbuild/bbs-3.22-bioc/R/bin/R CMD build --keep-empty-dirs --no-resave-data --md5 omicsPrint StartedAt: 2025-11-11 19:11:17 -0500 (Tue, 11 Nov 2025) EndedAt: 2025-11-11 19:12:14 -0500 (Tue, 11 Nov 2025) EllapsedTime: 57.0 seconds RetCode: 0 Status: OK PackageFile: omicsPrint_1.30.0.tar.gz PackageFileSize: 4.294 MiB