Package: omicsPrint Version: 1.28.0 Command: /home/biocbuild/R/R/bin/R CMD build --keep-empty-dirs --no-resave-data omicsPrint StartedAt: 2025-10-14 03:10:07 -0000 (Tue, 14 Oct 2025) EndedAt: 2025-10-14 03:12:42 -0000 (Tue, 14 Oct 2025) EllapsedTime: 155.2 seconds RetCode: 0 Status: OK PackageFile: omicsPrint_1.28.0.tar.gz PackageFileSize: 4.329 MiB