Package: omicsPrint Version: 1.30.0 Command: /Library/Frameworks/R.framework/Resources/bin/R CMD INSTALL omicsPrint StartedAt: 2025-11-10 15:13:17 -0500 (Mon, 10 Nov 2025) EndedAt: 2025-11-10 15:13:28 -0500 (Mon, 10 Nov 2025) EllapsedTime: 10.8 seconds RetCode: 0 Status: OK