Package: omicsPrint Version: 1.30.0 Command: /Library/Frameworks/R.framework/Resources/bin/R CMD build --keep-empty-dirs --no-resave-data omicsPrint StartedAt: 2025-11-10 17:15:12 -0500 (Mon, 10 Nov 2025) EndedAt: 2025-11-10 17:15:41 -0500 (Mon, 10 Nov 2025) EllapsedTime: 29.3 seconds RetCode: 0 Status: OK PackageFile: omicsPrint_1.30.0.tar.gz PackageFileSize: 4.339 MiB