Package: omicsPrint Version: 1.30.0 Command: rm -rf omicsPrint.buildbin-libdir && mkdir omicsPrint.buildbin-libdir && /Users/biocbuild/BBS/utils/build-universal.sh omicsPrint_1.30.0.tar.gz /Library/Frameworks/R.framework/Resources/bin/R omicsPrint.buildbin-libdir StartedAt: 2025-11-10 23:30:08 -0500 (Mon, 10 Nov 2025) EndedAt: 2025-11-10 23:30:20 -0500 (Mon, 10 Nov 2025) EllapsedTime: 12.2 seconds RetCode: 0 Status: OK PackageFile: omicsPrint_1.30.0.tgz PackageFileSize: 7.419 MiB