Package: omicsGMF Version: 1.0.0 Command: /home/biocbuild/bbs-3.22-bioc/R/bin/R CMD build --keep-empty-dirs --no-resave-data --md5 omicsGMF StartedAt: 2025-11-11 19:11:01 -0500 (Tue, 11 Nov 2025) EndedAt: 2025-11-11 19:12:24 -0500 (Tue, 11 Nov 2025) EllapsedTime: 83.0 seconds RetCode: 0 Status: OK PackageFile: omicsGMF_1.0.0.tar.gz PackageFileSize: 687.2 KiB