Package: omicplotR Version: 1.30.0 Command: /home/biocbuild/R/R/bin/R CMD INSTALL omicplotR StartedAt: 2025-11-10 21:42:58 -0000 (Mon, 10 Nov 2025) EndedAt: 2025-11-10 21:43:29 -0000 (Mon, 10 Nov 2025) EllapsedTime: 31.0 seconds RetCode: 0 Status: OK