Package: omicplotR Version: 1.30.0 Command: /home/biocbuild/R/R/bin/R CMD build --keep-empty-dirs --no-resave-data omicplotR StartedAt: 2025-11-11 03:49:31 -0000 (Tue, 11 Nov 2025) EndedAt: 2025-11-11 03:50:03 -0000 (Tue, 11 Nov 2025) EllapsedTime: 32.0 seconds RetCode: 0 Status: OK PackageFile: omicplotR_1.30.0.tar.gz PackageFileSize: 1.704 MiB