Package: omicplotR Version: 1.30.0 Command: /home/biocbuild/bbs-3.22-bioc/R/bin/R CMD INSTALL omicplotR StartedAt: 2025-11-11 15:38:38 -0500 (Tue, 11 Nov 2025) EndedAt: 2025-11-11 15:39:00 -0500 (Tue, 11 Nov 2025) EllapsedTime: 22.3 seconds RetCode: 0 Status: OK