Package: omicplotR Version: 1.28.0 Command: /home/biocbuild/bbs-3.21-bioc/R/bin/R CMD INSTALL omicplotR StartedAt: 2025-09-28 15:48:32 -0400 (Sun, 28 Sep 2025) EndedAt: 2025-09-28 15:48:55 -0400 (Sun, 28 Sep 2025) EllapsedTime: 22.9 seconds RetCode: 0 Status: OK