Package: omicplotR Version: 1.28.0 Command: /Library/Frameworks/R.framework/Resources/bin/R CMD check --install=check:omicplotR.install-out.txt --library=/Library/Frameworks/R.framework/Resources/library --no-vignettes --timings omicplotR_1.28.0.tar.gz StartedAt: 2025-10-07 07:29:02 -0400 (Tue, 07 Oct 2025) EndedAt: 2025-10-07 07:32:31 -0400 (Tue, 07 Oct 2025) EllapsedTime: 208.6 seconds RetCode: 0 Status: OK CheckDir: omicplotR.Rcheck Warnings: 0