Package: omicade4 Version: 1.50.0 Command: /home/biocbuild/R/R/bin/R CMD INSTALL omicade4 StartedAt: 2025-11-13 21:26:25 -0000 (Thu, 13 Nov 2025) EndedAt: 2025-11-13 21:26:51 -0000 (Thu, 13 Nov 2025) EllapsedTime: 26.5 seconds RetCode: 0 Status: OK