Package: omicade4 Version: 1.50.0 Command: /home/biocbuild/R/R/bin/R CMD build --keep-empty-dirs --no-resave-data omicade4 StartedAt: 2025-11-14 03:51:58 -0000 (Fri, 14 Nov 2025) EndedAt: 2025-11-14 03:52:39 -0000 (Fri, 14 Nov 2025) EllapsedTime: 41.0 seconds RetCode: 0 Status: OK PackageFile: omicade4_1.50.0.tar.gz PackageFileSize: 537.2 KiB